BEGIN:VCALENDAR
PRODID:-//americansforprosperity//EN
X-WR-TIMEZONE:US/Pacific
BEGIN:VEVENT
DTSTART;TZID=US/Pacific:20260430T180000
DTEND;TZID=US/Pacific:20260430T200000
LOCATION:333 W Columbia Way, Vancouver, WA 98660
DESCRIPTION;ENCODING=QUOTED-PRINTABLE:The State of Your Wallet Dinner will take place on April 30 at the AC Hotel Vancouver Waterfront. With the program beginning at&nbsp;6:30 PM, guests will enjoy an evening of dinner and conversation as Fox News contributor Guy Benson and Washington State Senator John Braun discuss taxes, economic policy, and the financial challenges facing Americans today.
SUMMARY:AFP-WA State of Your Wallet Dinner
X-MICROSOFT-CDO-BUSYSTATUS:OOF
PRIORITY:5
END:VEVENT
END:VCALENDAR
