BEGIN:VCALENDAR
PRODID:-//americansforprosperity//EN
X-WR-TIMEZONE:US/Central
BEGIN:VEVENT
DTSTART;TZID=US/Central:20260512T180000
DTEND;TZID=US/Central:20260512T200000
LOCATION:817 West Lake St, Libertyville, IL 60048, USA
DESCRIPTION;ENCODING=QUOTED-PRINTABLE:Taxed Out: Illinois' Property Tax Crisis is a powerful panel discussion hosted by Americans for Prosperity, Illinois Policy Institute, Lake County Republicans, and Lake County Young Republicans,  featuring expert panelists Brian Costin (Deputy State Director, Americans for Prosperity), John Giokaris (Senior Tax Counsel, Rock Fusco &amp; Connelly), and LyLena Estabine (Policy Analyst, Illinois Policy Institute) as they confront Illinois' crushing property tax burden and share practical solutions for real relief through candid Q&amp;A.Food and drinks provided. 
SUMMARY:Taxed Out: Illinois' Property Tax Crisis
X-MICROSOFT-CDO-BUSYSTATUS:OOF
PRIORITY:5
END:VEVENT
END:VCALENDAR
