BEGIN:VCALENDAR
PRODID:-//americansforprosperity//EN
X-WR-TIMEZONE:US/Pacific
BEGIN:VEVENT
DTSTART;TZID=US/Pacific:20260423T180000
DTEND;TZID=US/Pacific:20260423T200000
LOCATION:250 S Green Valley Pkwy, Henderson, NV 89012, USA
DESCRIPTION;ENCODING=QUOTED-PRINTABLE:&nbsp; &nbsp; Join Americans for Prosperity–Nevada for our Henderson Conservative April Meeting, featuring a special guest appearance by Henderson Mayor Michelle Romero. This event is an opportunity for community members, activists, and local leaders to engage in meaningful discussion about the future of Henderson, key policy priorities, and the role of local government in advancing economic freedom and opportunity.
Mayor Romero will share insights on current initiatives, challenges facing the city, and her vision for Henderson’s continued growth. Attendees will have the chance to ask questions, connect with like-minded individuals, and learn how to get more involved in advancing conservative principles at the local level.
SUMMARY:AFP-NV Henderson Conservative - April Meeting
X-MICROSOFT-CDO-BUSYSTATUS:OOF
PRIORITY:5
END:VEVENT
END:VCALENDAR
