BEGIN:VCALENDAR
PRODID:-//americansforprosperity//EN
X-WR-TIMEZONE:US/Central
BEGIN:VEVENT
DTSTART;TZID=US/Central:20260422T180000
DTEND;TZID=US/Central:20260422T190000
LOCATION:5032 S Bur Oak Pl, Sioux Falls, SD 57108, USA
DESCRIPTION;ENCODING=QUOTED-PRINTABLE:Celebrate Earth Day with AFP–South Dakota in a fun, hands-on way! Join us on Wednesday, April 22nd from 6:00–7:00 PM at our Sioux Falls Field Office to plant your own flower pot, decorate it, and take meaningful action for your community.All attendees will have the chance to write a message to their elected officials, letting their voices be heard on issues that matter to them. Plus, we’ll have a garden set giveaway for one lucky participant!Bring your creativity, your ideas, and your love for growing something great—both in your pot and in your community.
SUMMARY:Planting Prosperity – Earth Day Celebration with AFP-SD
X-MICROSOFT-CDO-BUSYSTATUS:OOF
PRIORITY:5
END:VEVENT
END:VCALENDAR
