BEGIN:VCALENDAR
PRODID:-//americansforprosperity//EN
X-WR-TIMEZONE:US/Central
BEGIN:VEVENT
DTSTART;TZID=US/Central:20260507T173000
DTEND;TZID=US/Central:20260507T190000
LOCATION:1801 E Liberty St, Mexico, MO 65265
DESCRIPTION;ENCODING=QUOTED-PRINTABLE:Join Americans for Prosperity-Missouri for a legislative update with State Rep. Ed Lewis on Wednesday, May 7 from 5:30–7:00 PM at The Oaks in MexicoRep. Lewis will share an update on his legislation to bring initiative petition reform to the ballot for Missouri voters and what this issue could mean for the future of our state.Come enjoy dinner, connect with others in your community, and hear directly from your state representative. Dinner will be provided, and there is no cost to attend.
SUMMARY:Legislative Update: Initiative Petition Reform - Mexico
X-MICROSOFT-CDO-BUSYSTATUS:OOF
PRIORITY:5
END:VEVENT
END:VCALENDAR
