BEGIN:VCALENDAR
PRODID:-//americansforprosperity//EN
X-WR-TIMEZONE:US/Arizona
BEGIN:VEVENT
DTSTART;TZID=US/Arizona:20260423T113000
DTEND;TZID=US/Arizona:20260423T133000
LOCATION:1100 S Main St Ste 102, Las Cruces, NM 88005, USA
DESCRIPTION;ENCODING=QUOTED-PRINTABLE:You’re invited to take part in a timely and substantive series focused on the principles that shape our nation.As our country approaches the 250th anniversary of the signing of the Constitution, there is renewed importance in understanding the ideas that define our system of government and protect individual liberty. In recognition of this milestone, Americans for Prosperity is hosting a multi-session discussion series using Hillsdale College’s Constitution 101 curriculum as a foundation.This series is designed to provide a clear, structured understanding of the Constitution’s framework, its enduring principles, and its relevance to today’s most pressing challenges.What to expect:Guided discussions based on Hillsdale College’s Constitution 101 seriesInsight into how constitutional principles apply to current policy issuesOpportunities for thoughtful dialogue and questionsA setting for individuals interested in advancing freedom and accountability in their communitiesWhether you are new to constitutional study or looking to deepen your perspective, this series offers a practical way to engage. It also serves as an entry point for those interested in becoming more involved with Americans for Prosperity and working toward solutions that expand opportunity.
SUMMARY:Principles of Freedom: The Constitution at 250 pt. 2
X-MICROSOFT-CDO-BUSYSTATUS:OOF
PRIORITY:5
END:VEVENT
END:VCALENDAR
