BEGIN:VCALENDAR
PRODID:-//americansforprosperity//EN
X-WR-TIMEZONE:US/Eastern
BEGIN:VEVENT
DTSTART;TZID=US/Eastern:20260506T150000
DTEND;TZID=US/Eastern:20260506T170000
LOCATION:817 Canton Rd NW, Carrollton, OH 44615, USA
DESCRIPTION;ENCODING=QUOTED-PRINTABLE:Are you concerned about the state of public policy and politics in the state &amp; country?&nbsp;Do you want to know more about AFP and how we engage in the public policy space?&nbsp;Are you sick and tired of feeling like you don't have a voice in your community and country?&nbsp;Join us to find out how we put a megaphone to people's voices!&nbsp;Let me buy you a cup of coffee &amp; find out how we can work together to make a change!&nbsp;
SUMMARY:Carrollton Energy & Engagement 05.06.2026
X-MICROSOFT-CDO-BUSYSTATUS:OOF
PRIORITY:5
END:VEVENT
END:VCALENDAR
