BEGIN:VCALENDAR
PRODID:-//americansforprosperity//EN
X-WR-TIMEZONE:US/Eastern
BEGIN:VEVENT
DTSTART;TZID=US/Eastern:20260526T180000
DTEND;TZID=US/Eastern:20260526T200000
LOCATION:501 Washington St, Steubenville, OH 43952, USA
DESCRIPTION;ENCODING=QUOTED-PRINTABLE:Jefferson County — Something Big Is Here 🌟Do you feel like the America you cherish is slowly slipping through your fingers? Like the values of hard work, freedom, and opportunity are being overshadowed by division and dysfunction?You’re not alone, and you are far from powerless.At Americans for Prosperity - Ohio, we believe deeply in the promise of this great nation. We believe every citizen holds the power to build a freer, more prosperous future, starting right here in Lake County.If you’re passionate about lowering taxes, cutting burdensome red tape, defending educational freedom, or securing affordable, reliable energy, your voice matters. Your story matters. And your country needs you now more than ever.📅 Date: Tuesday, May 26, 2026🕓 Time: 6:00 PM📍 Location: Froelich's Classic Corner, Downtown Steubenville, Ohio🍽️ Dinner is on us, so bring a friend and your love for liberty!Join us for an evening filled with purpose, patriotism, and powerful connection.This is not just a meeting, it is a movement. It is your opportunity to stand shoulder to shoulder with fellow Ohioans who believe in the enduring greatness of America and who are ready to defend it.Let’s reignite the American Dream, together.
SUMMARY:Jefferson County Chapter 05.26.2026
X-MICROSOFT-CDO-BUSYSTATUS:OOF
PRIORITY:5
END:VEVENT
END:VCALENDAR
