BEGIN:VCALENDAR
PRODID:-//americansforprosperity//EN
X-WR-TIMEZONE:US/Arizona
BEGIN:VEVENT
DTSTART;TZID=US/Arizona:20260506T180000
DTEND;TZID=US/Arizona:20260506T200000
LOCATION:3130 W Maple Loop Dr, Lehi, UT 84043, USA
DESCRIPTION;ENCODING=QUOTED-PRINTABLE:Join AFP Utah for our upcoming Day of Action and be part of the movement to elect leaders who will fight for lower taxes, greater freedom, and more opportunity across our state. This is your chance to make a real impact—knocking doors, making calls, and connecting with voters who will decide the future of Utah. Whether you’re a first-time volunteer or a seasoned activist, we need you on the team. Step up, take action, and help us win.
SUMMARY:AFP-UT Day of Action 5/6
X-MICROSOFT-CDO-BUSYSTATUS:OOF
PRIORITY:5
END:VEVENT
END:VCALENDAR
